BEGIN:VCALENDAR
VERSION:2.0
PRODID:-//Springdale Church, Toronto - ECPv6.15.20//NONSGML v1.0//EN
CALSCALE:GREGORIAN
METHOD:PUBLISH
X-WR-CALNAME:Springdale Church, Toronto
X-ORIGINAL-URL:https://www.springdalechurch.ca
X-WR-CALDESC:Events for Springdale Church, Toronto
REFRESH-INTERVAL;VALUE=DURATION:PT1H
X-Robots-Tag:noindex
X-PUBLISHED-TTL:PT1H
BEGIN:VTIMEZONE
TZID:America/Toronto
BEGIN:DAYLIGHT
TZOFFSETFROM:-0500
TZOFFSETTO:-0400
TZNAME:EDT
DTSTART:20230312T070000
END:DAYLIGHT
BEGIN:STANDARD
TZOFFSETFROM:-0400
TZOFFSETTO:-0500
TZNAME:EST
DTSTART:20231105T060000
END:STANDARD
BEGIN:DAYLIGHT
TZOFFSETFROM:-0500
TZOFFSETTO:-0400
TZNAME:EDT
DTSTART:20240310T070000
END:DAYLIGHT
BEGIN:STANDARD
TZOFFSETFROM:-0400
TZOFFSETTO:-0500
TZNAME:EST
DTSTART:20241103T060000
END:STANDARD
BEGIN:DAYLIGHT
TZOFFSETFROM:-0500
TZOFFSETTO:-0400
TZNAME:EDT
DTSTART:20250309T070000
END:DAYLIGHT
BEGIN:STANDARD
TZOFFSETFROM:-0400
TZOFFSETTO:-0500
TZNAME:EST
DTSTART:20251102T060000
END:STANDARD
END:VTIMEZONE
BEGIN:VEVENT
DTSTART;TZID=America/Toronto:20241026T190000
DTEND;TZID=America/Toronto:20241026T210000
DTSTAMP:20260421T033559
CREATED:20240929T104636Z
LAST-MODIFIED:20240929T104916Z
UID:25570-1729969200-1729976400@www.springdalechurch.ca
SUMMARY:Mediums Night
DESCRIPTION:Mediums Night
URL:https://www.springdalechurch.ca/event/mediums-night-3/
LOCATION:Springdale Church\, 30 Merritt Road\, Toronto\, Ontario\, M4B 3K5\, Canada
ATTACH;FMTTYPE=application/pdf:https://www.springdalechurch.ca/wp-content/uploads/2024/09/Spring-MediumsNight-1.pdf
ORGANIZER;CN="Springdale Church":MAILTO:information@springdalechurch.ca
END:VEVENT
END:VCALENDAR